BEGIN:VCALENDAR
VERSION:2.0
PRODID:-//Capital District Business Leaders - ECPv6.15.3//NONSGML v1.0//EN
CALSCALE:GREGORIAN
METHOD:PUBLISH
X-ORIGINAL-URL:https://www.mycdbl.com
X-WR-CALDESC:Events for Capital District Business Leaders
REFRESH-INTERVAL;VALUE=DURATION:PT1H
X-Robots-Tag:noindex
X-PUBLISHED-TTL:PT1H
BEGIN:VTIMEZONE
TZID:UTC
BEGIN:STANDARD
TZOFFSETFROM:+0000
TZOFFSETTO:+0000
TZNAME:UTC
DTSTART:20230101T000000
END:STANDARD
END:VTIMEZONE
BEGIN:VEVENT
DTSTART;TZID=UTC:20230913T050000
DTEND;TZID=UTC:20230913T190000
DTSTAMP:20260425T141630
CREATED:20230717T192304Z
LAST-MODIFIED:20230717T192840Z
UID:1846-1694581200-1694631600@www.mycdbl.com
SUMMARY:Colonie Chamber Networking Event
DESCRIPTION:Enjoy complimentary hors d’oeuvres and drink specials while making new connections and growing your network.\n\nMembers\n$10 online | $15 at the door\n\nNon-Members\n$20 online | $25 at the door
URL:https://www.mycdbl.com/event/colonie-chamber-networking-event/
LOCATION:Toro\, 111 Wolf Rd.\, Colonie\, NY\, 12205
END:VEVENT
BEGIN:VEVENT
DTSTART;TZID=UTC:20230817T173000
DTEND;TZID=UTC:20230817T193000
DTSTAMP:20260425T141630
CREATED:20230717T191035Z
LAST-MODIFIED:20230717T193334Z
UID:1841-1692293400-1692300600@www.mycdbl.com
SUMMARY:Cocktails and Connections
DESCRIPTION:The ABR’s Summer Cocktails and Connections in Saratoga is the ultimate networking reception that includes top business leaders in the Capital Region.
URL:https://www.mycdbl.com/event/cocktails-and-connections/
LOCATION:Prime at Saratoga National\, 458 Union St.\, Saratoga Springs\, NY\, 12866
END:VEVENT
BEGIN:VEVENT
DTSTART;TZID=UTC:20230816T170000
DTEND;TZID=UTC:20230816T190000
DTSTAMP:20260425T141630
CREATED:20230524T134815Z
LAST-MODIFIED:20230524T134815Z
UID:1809-1692205200-1692212400@www.mycdbl.com
SUMMARY:Business After Hours at The Hideaway at Saratoga Lake Golf Club
DESCRIPTION:
URL:https://www.mycdbl.com/event/business-after-hours-at-the-hideaway-at-saratoga-lake-golf-club/
LOCATION:The Hideaway\, 35 Grace Moore Rd.\, Saratoga Springs\, NY\, 12866
END:VEVENT
BEGIN:VEVENT
DTSTART;TZID=UTC:20230809T120000
DTEND;TZID=UTC:20230809T140000
DTSTAMP:20260425T141630
CREATED:20230717T191928Z
LAST-MODIFIED:20230717T191928Z
UID:1844-1691582400-1691589600@www.mycdbl.com
SUMMARY:BBB Albany Luncheon
DESCRIPTION:Join in a momentous celebration as our esteemed friends at BBB of Upstate NY reach an incredible milestone – 100 years of providing unforgettable experiences and warm hospitality!
URL:https://www.mycdbl.com/event/bbb-albany-luncheon/
LOCATION:The Desmond Hotel\, 660 Albany Shaker Rd.\, Albany\, NY\, 12211
END:VEVENT
BEGIN:VEVENT
DTSTART;TZID=UTC:20230802T170000
DTEND;TZID=UTC:20230802T190000
DTSTAMP:20260425T141630
CREATED:20230524T135919Z
LAST-MODIFIED:20230524T135919Z
UID:1820-1690995600-1691002800@www.mycdbl.com
SUMMARY:Networking at Philly Bar & Grill
DESCRIPTION:Enjoy complimentary hors d’oeuvres and drink specials while making new connections and growing your network.
URL:https://www.mycdbl.com/event/networking-at-philly-bar-grill/
LOCATION:Philly Bar & Grill\, 622 Watervliet Shaker Rd.\, Latham\, NY\, 12110
END:VEVENT
BEGIN:VEVENT
DTSTART;TZID=UTC:20230721T130000
DTEND;TZID=UTC:20230721T170000
DTSTAMP:20260425T141630
CREATED:20230524T135654Z
LAST-MODIFIED:20230524T135654Z
UID:1817-1689944400-1689958800@www.mycdbl.com
SUMMARY:Day at the Track
DESCRIPTION:Network with members of the Colonie and Chamber of Commerce while enjoying a day at the races and the amenities of The Rail at the 1863 Club\, which include floor-to-ceiling windows in an air-conditioned dining room offering Mutuel terminals and televisions throughout.
URL:https://www.mycdbl.com/event/day-at-the-track/
LOCATION:Saratoga Race Course
END:VEVENT
BEGIN:VEVENT
DTSTART;TZID=UTC:20230712T180000
DTEND;TZID=UTC:20230712T193000
DTSTAMP:20260425T141630
CREATED:20230524T134020Z
LAST-MODIFIED:20230524T134020Z
UID:1801-1689184800-1689190200@www.mycdbl.com
SUMMARY:Power 50 Preview Party
DESCRIPTION:Who will be on the 2023 Power 50 list? Be one of the first to find out at the Power 50 Preview Party where we’ll release this year’s list before it’s published and celebrate with listmakers!
URL:https://www.mycdbl.com/event/power-50-preview-party/
LOCATION:Loft 433\, 433 River St.\, Troy\, NY\, 12180
END:VEVENT
BEGIN:VEVENT
DTSTART;TZID=UTC:20230712T170000
DTEND;TZID=UTC:20230712T190000
DTSTAMP:20260425T141630
CREATED:20230524T135439Z
LAST-MODIFIED:20230524T135439Z
UID:1814-1689181200-1689188400@www.mycdbl.com
SUMMARY:Networking at Scarlet Knife
DESCRIPTION:Enjoy complimentary hors d’oeuvres and drink specials while making new connections and growing your network.
URL:https://www.mycdbl.com/event/networking-at-scarlet-knife/
LOCATION:Scarlet Knife\, 195 Troy Schenectady Rd\, Watervliet\, NY\, 12189
END:VEVENT
BEGIN:VEVENT
DTSTART;TZID=UTC:20230623T110000
DTEND;TZID=UTC:20230623T133000
DTSTAMP:20260425T141630
CREATED:20230524T133719Z
LAST-MODIFIED:20230524T133719Z
UID:1799-1687518000-1687527000@www.mycdbl.com
SUMMARY:Diversity Equity & Inclusion in Business Awards
DESCRIPTION:2023 honorees announced! Join us to recognize this year’s honorees followed by a dynamic and candid fireside chat moderated by Walter Thorne.
URL:https://www.mycdbl.com/event/diversity-equity-inclusion-in-business-awards/
LOCATION:Hilton Garden Inn\, 235 Hoosick St.\, Troy\, NY\, 12180
END:VEVENT
BEGIN:VEVENT
DTSTART;TZID=UTC:20230615T173000
DTEND;TZID=UTC:20230615T210000
DTSTAMP:20260425T141630
CREATED:20230524T134451Z
LAST-MODIFIED:20230524T134451Z
UID:1807-1686850200-1686862800@www.mycdbl.com
SUMMARY:Capital Region Chamber Annual Dinner
DESCRIPTION:The Chamber’s Annual Dinner is the region’s premier business event\, attended by 1\,000 business executives and civic leaders from throughout the Capital Region. This promises to be an evening you will not want to miss\, featuring unmatched networking opportunities and an outstanding program.
URL:https://www.mycdbl.com/event/capital-region-chamber-annual-dinner/
END:VEVENT
BEGIN:VEVENT
DTSTART;TZID=UTC:20230615T080000
DTEND;TZID=UTC:20230615T103000
DTSTAMP:20260425T141630
CREATED:20230524T133503Z
LAST-MODIFIED:20230524T133503Z
UID:1796-1686816000-1686825000@www.mycdbl.com
SUMMARY:Education and Workforce Development Roundtable
DESCRIPTION:As a part of our yearlong series\, Elevate Albany\, Albany Business Review with the region’s most influential leaders in education and business.
URL:https://www.mycdbl.com/event/education-and-workforce-development-roundtable/
LOCATION:Empac\, 44 8th St\, Troy\, NY\, 12180
END:VEVENT
BEGIN:VEVENT
DTSTART;TZID=UTC:20230614T160000
DTEND;TZID=UTC:20230614T190000
DTSTAMP:20260425T141630
CREATED:20230524T135119Z
LAST-MODIFIED:20230524T135119Z
UID:1812-1686758400-1686769200@www.mycdbl.com
SUMMARY:Networking at Horseshoe Inn Bar & Grill
DESCRIPTION:Join the Colonie Chamber of Commerce for our June networking event as we head north to collaborate with our friends from the Saratoga County Chamber of Commerce.
URL:https://www.mycdbl.com/event/networking-at-horseshoe-inn-bar-grill/
LOCATION:Horseshoe Inn Bar & Grill
END:VEVENT
BEGIN:VEVENT
DTSTART;TZID=UTC:20230607T170000
DTEND;TZID=UTC:20230607T190000
DTSTAMP:20260425T141630
CREATED:20230524T134244Z
LAST-MODIFIED:20230524T134244Z
UID:1804-1686157200-1686164400@www.mycdbl.com
SUMMARY:Business After Hours at Rivers Casino
DESCRIPTION:
URL:https://www.mycdbl.com/event/business-after-hours-at-rivers-casino/
LOCATION:Rivers Casino\, 1 Rush St.\, Schenectady\, NY\, 12305
END:VEVENT
BEGIN:VEVENT
DTSTART;TZID=UTC:20230604T160000
DTEND;TZID=UTC:20230604T183000
DTSTAMP:20260425T141630
CREATED:20230502T200543Z
LAST-MODIFIED:20230502T200543Z
UID:1780-1685894400-1685903400@www.mycdbl.com
SUMMARY:2023 Mixer/Summer Recap Event
DESCRIPTION:The Saratoga County Chamber of Commerce has organized a panel of experts from the Thoroughbred horse racing industry\, the Saratoga Casino Hotel\, and the Saratoga Performing Arts Center who will preview the 2023 Summer in Saratoga from 4pm-5pm on Wednesday\, June 14th.  A mixer for networking\, food and beverages will follow from 5pm-6:30pm.
URL:https://www.mycdbl.com/event/2023-mixer-summer-recap-event/
LOCATION:Horseshoe Inn Bar & Grill
END:VEVENT
BEGIN:VEVENT
DTSTART;TZID=UTC:20230531T100000
DTEND;TZID=UTC:20230531T170000
DTSTAMP:20260425T141630
CREATED:20230502T195545Z
LAST-MODIFIED:20230502T195545Z
UID:1775-1685527200-1685552400@www.mycdbl.com
SUMMARY:Grand Slam Networking
DESCRIPTION:Connect with your fellow Chamber members\, root for the Tri-City Valley Cats\, and network over lunch in this fun and relaxed setting. Guests will enjoy all the amenities of a climate-controlled suite\, including a cash bar and balcony view!
URL:https://www.mycdbl.com/event/grand-slam-networking/
END:VEVENT
BEGIN:VEVENT
DTSTART;TZID=UTC:20230523T170000
DTEND;TZID=UTC:20230523T190000
DTSTAMP:20260425T141630
CREATED:20230502T201549Z
LAST-MODIFIED:20230502T201724Z
UID:1785-1684861200-1684868400@www.mycdbl.com
SUMMARY:Cocktails & Connections
DESCRIPTION:Celebrate the start of spring at the Albany Business Review’s Spring Cocktails & Connections! Join us for networking\, drinks and hors d’oeuvres.
URL:https://www.mycdbl.com/event/cocktails-connections/
END:VEVENT
BEGIN:VEVENT
DTSTART;TZID=UTC:20230503T170000
DTEND;TZID=UTC:20230503T190000
DTSTAMP:20260425T141630
CREATED:20230502T195837Z
LAST-MODIFIED:20230502T195837Z
UID:1777-1683133200-1683140400@www.mycdbl.com
SUMMARY:Networking at 110 Grill
DESCRIPTION:Join the Colonie Chamber 110 Grill in Latham for  a night of making new connections!
URL:https://www.mycdbl.com/event/networking-at-110-grill/
LOCATION:110 Grill
END:VEVENT
BEGIN:VEVENT
DTSTART;TZID=UTC:20230502T110000
DTEND;TZID=UTC:20230502T123000
DTSTAMP:20260425T141630
CREATED:20230502T201206Z
LAST-MODIFIED:20230502T201206Z
UID:1783-1683025200-1683030600@www.mycdbl.com
SUMMARY:40 Under 40
DESCRIPTION:
URL:https://www.mycdbl.com/event/40-under-40/
END:VEVENT
BEGIN:VEVENT
DTSTART;TZID=UTC:20230405T170000
DTEND;TZID=UTC:20230405T190000
DTSTAMP:20260425T141630
CREATED:20230307T160007Z
LAST-MODIFIED:20230307T160007Z
UID:1718-1680714000-1680721200@www.mycdbl.com
SUMMARY:Colonie Chamber Networking at Innovo
DESCRIPTION:Enjoy drink specials at Innovo Kitchen with complimentary hors d’oeuvres while you make new connections and grow your network.\n\nMembers\n$10 online | $15 at the door\n\nNon-Members\n$20 online | $25 at the door
URL:https://www.mycdbl.com/event/colonie-chamber-networking-at-innovo/
LOCATION:Innovo Kitchen\, 1210 Troy-Schenectady Road\, Latham\, NY\, 12110
END:VEVENT
BEGIN:VEVENT
DTSTART;TZID=UTC:20230322T073000
DTEND;TZID=UTC:20230322T113000
DTSTAMP:20260425T141630
CREATED:20230307T161504Z
LAST-MODIFIED:20230307T161504Z
UID:1725-1679470200-1679484600@www.mycdbl.com
SUMMARY:Women's Summit
DESCRIPTION:Join us for this half day summit with women from across the region to hear insightful\, inspirational\, and informative discussions\, relationship building\, and both personal and career growth.
URL:https://www.mycdbl.com/event/womens-summit/
LOCATION:Rivers Casino\, 1 Rush St.\, Schenectady\, NY\, 12305
END:VEVENT
BEGIN:VEVENT
DTSTART;TZID=UTC:20230321T163000
DTEND;TZID=UTC:20230321T190000
DTSTAMP:20260425T141630
CREATED:20230207T172808Z
LAST-MODIFIED:20230207T172903Z
UID:1685-1679416200-1679425200@www.mycdbl.com
SUMMARY:Axe Throwing & Networking - Colonie Chamber Mixer
DESCRIPTION:Join colleagues\, friends\, and new connections for a one-of-a-kind experience\, indoor axe throwing at Generation Axe! After a safety briefing and instruction from an Axe Expert\, attendees can socialize\, throw axes\, and participate in friendly team competitions. A cash bar will be available.
URL:https://www.mycdbl.com/event/axe-throwing-networking/
LOCATION:Generation Axe\, 90 Fuller Road\, Colonie\, NY\, 12205
END:VEVENT
BEGIN:VEVENT
DTSTART;TZID=UTC:20230317T180000
DTEND;TZID=UTC:20230317T220000
DTSTAMP:20260425T141630
CREATED:20230221T174358Z
LAST-MODIFIED:20230221T174358Z
UID:1709-1679076000-1679090400@www.mycdbl.com
SUMMARY:Friends of St. Patrick Annual Gathering
DESCRIPTION:
URL:https://www.mycdbl.com/event/friends-of-st-patrick-annual-gathering/
LOCATION:Franklin Terrace\, Campbell Ave.\, Troy\, NY
END:VEVENT
BEGIN:VEVENT
DTSTART;TZID=UTC:20230314T160000
DTEND;TZID=UTC:20230314T183000
DTSTAMP:20260425T141630
CREATED:20230307T162114Z
LAST-MODIFIED:20230307T162114Z
UID:1729-1678809600-1678818600@www.mycdbl.com
SUMMARY:Brasserie Benelux Mixer
DESCRIPTION:Join the Saratoga County Chamber in their monthly networking event at Brasserie Benelux in Saratoga Springs.
URL:https://www.mycdbl.com/event/brasserie-benelux-mixer/
LOCATION:Brasserie Benelux\, 390 Broadway A\, Saratoga Springs\, NY\, 12866
END:VEVENT
BEGIN:VEVENT
DTSTART;TZID=UTC:20230314T113000
DTEND;TZID=UTC:20230314T133000
DTSTAMP:20260425T141630
CREATED:20230307T161215Z
LAST-MODIFIED:20230307T161215Z
UID:1721-1678793400-1678800600@www.mycdbl.com
SUMMARY:Empire Whole Health Heroes Awards Luncheon
DESCRIPTION:Celebrate the 2022 Empire Whole Health Heroes and learn more about their innovation and leadership in building the whole health of the community.
URL:https://www.mycdbl.com/event/empire-whole-health-heroes-awards-luncheon/
LOCATION:Hilton Garden Inn\, 235 Hoosick St.\, Troy\, NY\, 12180
END:VEVENT
BEGIN:VEVENT
DTSTART;TZID=UTC:20230301T170000
DTEND;TZID=UTC:20230301T190000
DTSTAMP:20260425T141630
CREATED:20230125T162513Z
LAST-MODIFIED:20230125T162513Z
UID:1664-1677690000-1677697200@www.mycdbl.com
SUMMARY:Colonie Chamber Mixer
DESCRIPTION:Enjoy complimentary hors d’oeuvres and drink specials while making new connections and growing your network. Plus\, listen to The Drive with Charlie & Dan as they broadcast their show LIVE from Arsenal City Tavern.
URL:https://www.mycdbl.com/event/colonie-chamber-mixer-2/
LOCATION:Arsenal City Tavern\, 795 Third Ave.\, Watervliet\, NY\, 12189
END:VEVENT
BEGIN:VEVENT
DTSTART;TZID=UTC:20230202T080000
DTEND;TZID=UTC:20230202T090000
DTSTAMP:20260425T141630
CREATED:20230125T163107Z
LAST-MODIFIED:20230125T163107Z
UID:1666-1675324800-1675328400@www.mycdbl.com
SUMMARY:CDBL Visitor Day
DESCRIPTION:Capital District Business Leaders welcomes perspective members to join us for breakfast and hear more about the benefits of CDBL membership! Contact Jeff Dorrance for more information at jdorrance@premiummortgage.com.
URL:https://www.mycdbl.com/event/cdbl-visitor-day/
LOCATION:The Desmond Hotel\, 660 Albany Shaker Rd.\, Albany\, NY\, 12211
END:VEVENT
BEGIN:VEVENT
DTSTART;TZID=UTC:20230201T170000
DTEND;TZID=UTC:20230201T190000
DTSTAMP:20260425T141630
CREATED:20230116T202107Z
LAST-MODIFIED:20230116T202107Z
UID:1654-1675270800-1675278000@www.mycdbl.com
SUMMARY:Colonie Chamber Mixer
DESCRIPTION:
URL:https://www.mycdbl.com/event/colonie-chamber-mixer/
LOCATION:Beer Bones Tavern\, 594 Loudon Rd.\, Latham\, NY\, 12110
END:VEVENT
BEGIN:VEVENT
DTSTART;TZID=UTC:20230126T180000
DTEND;TZID=UTC:20230126T200000
DTSTAMP:20260425T141630
CREATED:20230112T192131Z
LAST-MODIFIED:20230120T125552Z
UID:1648-1674756000-1674763200@www.mycdbl.com
SUMMARY:Relay for Life 2023 Kickoff
DESCRIPTION:
URL:https://www.mycdbl.com/event/relay-for-life-2023-kickoff/
LOCATION:Arsenal City Tavern\, 795 Third Ave.\, Watervliet\, NY\, 12189
END:VEVENT
BEGIN:VEVENT
DTSTART;TZID=UTC:20230126T170000
DTEND;TZID=UTC:20230126T190000
DTSTAMP:20260425T141630
CREATED:20230116T202521Z
LAST-MODIFIED:20230116T202521Z
UID:1657-1674752400-1674759600@www.mycdbl.com
SUMMARY:Saratoga Chamber Mixer
DESCRIPTION:
URL:https://www.mycdbl.com/event/saratoga-chamber-mixer/
LOCATION:Nanola\, 2639 US-9\, Malta\, NY\, 12020
END:VEVENT
BEGIN:VEVENT
DTSTART;TZID=UTC:20230126T170000
DTEND;TZID=UTC:20230126T190000
DTSTAMP:20260425T141630
CREATED:20230111T185219Z
LAST-MODIFIED:20230111T185219Z
UID:1640-1674752400-1674759600@www.mycdbl.com
SUMMARY:Celebrity Bartending Event
DESCRIPTION:
URL:https://www.mycdbl.com/event/celebrity-bartending-event/
LOCATION:Armory Lounge\, 125 Washington Ave\, Schenectady\, NY\, 12305
END:VEVENT
END:VCALENDAR