BEGIN:VCALENDAR
VERSION:2.0
PRODID:-//Capital District Business Leaders - ECPv6.15.3//NONSGML v1.0//EN
CALSCALE:GREGORIAN
METHOD:PUBLISH
X-WR-CALNAME:Capital District Business Leaders
X-ORIGINAL-URL:https://www.mycdbl.com
X-WR-CALDESC:Events for Capital District Business Leaders
REFRESH-INTERVAL;VALUE=DURATION:PT1H
X-Robots-Tag:noindex
X-PUBLISHED-TTL:PT1H
BEGIN:VTIMEZONE
TZID:UTC
BEGIN:STANDARD
TZOFFSETFROM:+0000
TZOFFSETTO:+0000
TZNAME:UTC
DTSTART:20260101T000000
END:STANDARD
END:VTIMEZONE
BEGIN:VEVENT
DTSTART;TZID=UTC:20260305T170000
DTEND;TZID=UTC:20260305T190000
DTSTAMP:20260425T154857
CREATED:20260210T155040Z
LAST-MODIFIED:20260210T155040Z
UID:2203-1772730000-1772737200@www.mycdbl.com
SUMMARY:Colonie Chamber March Mixer
DESCRIPTION:Wednesday\, March 4th\n5:00 pm Check-In & Networking \nOutback Steakhouse (Wolf Road Shoppers Park)\n145 Wolf Rd.\nColonie\, NY 12205\n\nEnjoy complimentary hors d’ouvres & drink specials while making connections & growing your network.
URL:https://www.mycdbl.com/event/colonie-chamber-march-mixer/
LOCATION:Outback Steakhouse\, 145 Wolf Rd\, Colonie\, New York\, 12205
END:VEVENT
BEGIN:VEVENT
DTSTART;TZID=UTC:20260313T080000
DTEND;TZID=UTC:20260313T100000
DTSTAMP:20260425T154857
CREATED:20260210T155313Z
LAST-MODIFIED:20260210T155443Z
UID:2206-1773388800-1773396000@www.mycdbl.com
SUMMARY:Multi Chamber Speed Networking
DESCRIPTION:Multi Chamber Speed Networking\n\n\nFriday\, March 13th\n8:00AM-10:00AM \nCrossgates Mall\n1 Crossgates Mall Rd\nAlbany\, NY 12203 \nPolish off & polish up your “elevator speech” in a fast- paced environment that promises both quality & quantity as you interact with members from five Chambers.
URL:https://www.mycdbl.com/event/multi-chamber-speed-networking/
END:VEVENT
END:VCALENDAR