BEGIN:VCALENDAR
VERSION:2.0
PRODID:-//Capital District Business Leaders - ECPv6.15.3//NONSGML v1.0//EN
CALSCALE:GREGORIAN
METHOD:PUBLISH
X-WR-CALNAME:Capital District Business Leaders
X-ORIGINAL-URL:https://www.mycdbl.com
X-WR-CALDESC:Events for Capital District Business Leaders
REFRESH-INTERVAL;VALUE=DURATION:PT1H
X-Robots-Tag:noindex
X-PUBLISHED-TTL:PT1H
BEGIN:VTIMEZONE
TZID:UTC
BEGIN:STANDARD
TZOFFSETFROM:+0000
TZOFFSETTO:+0000
TZNAME:UTC
DTSTART:20230101T000000
END:STANDARD
END:VTIMEZONE
BEGIN:VEVENT
DTSTART;TZID=UTC:20260128T173000
DTEND;TZID=UTC:20260128T193000
DTSTAMP:20260425T155014
CREATED:20260120T171438Z
LAST-MODIFIED:20260120T171438Z
UID:2189-1769621400-1769628600@www.mycdbl.com
SUMMARY:Colonie Chamber of Commerce Annual Dinner
DESCRIPTION:The Colonie Chamber Annual Dinner offers our Community the opportunity for high-level networking in a celebratory setting w/special recognition to local influencers who positively impact Colonie.
URL:https://www.mycdbl.com/event/colonie-chamber-of-commerce-annual-dinner/
LOCATION:Desmond Crowne Plaza\, 660 Albany Shaker Rd.\, Albany\, NY\, 12211
END:VEVENT
BEGIN:VEVENT
DTSTART;TZID=UTC:20241016T170000
DTEND;TZID=UTC:20241016T190000
DTSTAMP:20260425T155014
CREATED:20240731T180334Z
LAST-MODIFIED:20240731T180334Z
UID:2029-1729098000-1729105200@www.mycdbl.com
SUMMARY:Business After Hours - Armory Studios
DESCRIPTION:
URL:https://www.mycdbl.com/event/business-after-hours-armory-studios/
LOCATION:Armory Studios\, 125 Washington Ave.\, Schenectady\, NY\, 12305
END:VEVENT
BEGIN:VEVENT
DTSTART;TZID=UTC:20240911T170000
DTEND;TZID=UTC:20240911T190000
DTSTAMP:20260425T155014
CREATED:20240731T173448Z
LAST-MODIFIED:20240731T173448Z
UID:2023-1726074000-1726081200@www.mycdbl.com
SUMMARY:Colonie Chamber Mixer
DESCRIPTION:September Networking Event @ Scarlet Knife\n\n\nJoin us for our September Networking Event!\nWednesday\, September 11th \n5:00 pm Check-In & Networking \nEnjoy complimentary hors d’ouvres and drink specials while making new connections and growing your network. \nScarlet Knife\n195 Troy Schenectady Rd\nLatham\, NY 12110
URL:https://www.mycdbl.com/event/colonie-chamber-mixer-4/
LOCATION:Scarlet Knife\, 195 Troy Schenectady Rd\, Watervliet\, NY\, 12189
END:VEVENT
BEGIN:VEVENT
DTSTART;TZID=UTC:20240815T170000
DTEND;TZID=UTC:20240815T190000
DTSTAMP:20260425T155014
CREATED:20240731T174634Z
LAST-MODIFIED:20240731T174634Z
UID:2025-1723741200-1723748400@www.mycdbl.com
SUMMARY:Business After Hours - Capital Region Chamber
DESCRIPTION:
URL:https://www.mycdbl.com/event/business-after-hours-capital-region-chamber/
LOCATION:Albany Distilling\, 75 Livingstone Ave.\, Albany\, NY\, 12207
END:VEVENT
BEGIN:VEVENT
DTSTART;TZID=UTC:20240807T170000
DTEND;TZID=UTC:20240807T190000
DTSTAMP:20260425T155014
CREATED:20240731T172210Z
LAST-MODIFIED:20240731T172229Z
UID:2020-1723050000-1723057200@www.mycdbl.com
SUMMARY:Colonie Chamber Mixer
DESCRIPTION:August Networking Event @ Philly Bar & Lounge\n\n\nWednesday\, August 7th \n5:00 pm Check-In & Networking \nEnjoy complimentary hors d’ouvres and drink specials while making new connections and growing your network. \nPhilly Bar & Lounge\n622 Watervliet Shaker Rd\nLatham\, NY 12110
URL:https://www.mycdbl.com/event/colonie-chamber-mixer-3/
LOCATION:Philly Bar & Grill\, 622 Watervliet Shaker Rd.\, Latham\, NY\, 12110
END:VEVENT
BEGIN:VEVENT
DTSTART;TZID=UTC:20240517T110000
DTEND;TZID=UTC:20240517T133000
DTSTAMP:20260425T155014
CREATED:20240110T201819Z
LAST-MODIFIED:20240110T201819Z
UID:1955-1715943600-1715952600@www.mycdbl.com
SUMMARY:2024 40 Under 40 Awards Celebration & Luncheon
DESCRIPTION:Celebrate the 40 leaders under the age of 40 who demonstrate business acumen\, leadership skills\, and community involvement.
URL:https://www.mycdbl.com/event/2024-40-under-40-awards-celebration-luncheon/
LOCATION:Albany Capital Center\, 55 Eagle St.\, Albany\, NY\, 12207
END:VEVENT
BEGIN:VEVENT
DTSTART;TZID=UTC:20240314T173000
DTEND;TZID=UTC:20240314T193000
DTSTAMP:20260425T155014
CREATED:20240110T201417Z
LAST-MODIFIED:20240110T201417Z
UID:1949-1710437400-1710444600@www.mycdbl.com
SUMMARY:Capital Region Chamber Annual Dinner
DESCRIPTION:
URL:https://www.mycdbl.com/event/capital-region-chamber-annual-dinner-2/
LOCATION:Albany Capital Center\, 55 Eagle St.\, Albany\, NY\, 12207
END:VEVENT
BEGIN:VEVENT
DTSTART;TZID=UTC:20240131T080000
DTEND;TZID=UTC:20240131T110000
DTSTAMP:20260425T155014
CREATED:20240110T201609Z
LAST-MODIFIED:20240110T201609Z
UID:1953-1706688000-1706698800@www.mycdbl.com
SUMMARY:Elevate Albany: State of the Region Summit
DESCRIPTION:This half day event will attract businesspeople from across the region for insightful discussions\, collaboration and relationship building.
URL:https://www.mycdbl.com/event/elevate-albany-state-of-the-region-summit/
LOCATION:Rivers Casino\, 1 Rush St.\, Schenectady\, NY\, 12305
END:VEVENT
BEGIN:VEVENT
DTSTART;TZID=UTC:20240118T074500
DTEND;TZID=UTC:20240118T230000
DTSTAMP:20260425T155014
CREATED:20240110T200441Z
LAST-MODIFIED:20240110T200441Z
UID:1947-1705563900-1705618800@www.mycdbl.com
SUMMARY:Colonie Chamber State of the Town
DESCRIPTION:
URL:https://www.mycdbl.com/event/colonie-chamber-state-of-the-town/
END:VEVENT
BEGIN:VEVENT
DTSTART;TZID=UTC:20240110T173000
DTEND;TZID=UTC:20240110T193000
DTSTAMP:20260425T155014
CREATED:20240110T200218Z
LAST-MODIFIED:20240110T200218Z
UID:1945-1704907800-1704915000@www.mycdbl.com
SUMMARY:Colonie Chamber Annual Dinner
DESCRIPTION:
URL:https://www.mycdbl.com/event/colonie-chamber-annual-dinner/
LOCATION:Century House\, 997 Loudon Rd.\, Latham\, NY\, United States
END:VEVENT
BEGIN:VEVENT
DTSTART;TZID=UTC:20231214T170000
DTEND;TZID=UTC:20231214T190000
DTSTAMP:20260425T155014
CREATED:20231115T171922Z
LAST-MODIFIED:20231115T171922Z
UID:1916-1702573200-1702580400@www.mycdbl.com
SUMMARY:Capital Region Chamber Holiday Reception
DESCRIPTION:Holiday Mixer
URL:https://www.mycdbl.com/event/capital-region-chamber-holiday-reception/
LOCATION:The Desmond Hotel\, 660 Albany Shaker Rd.\, Albany\, NY\, 12211
END:VEVENT
BEGIN:VEVENT
DTSTART;TZID=UTC:20231206T170000
DTEND;TZID=UTC:20231206T190000
DTSTAMP:20260425T155014
CREATED:20231115T172230Z
LAST-MODIFIED:20231115T172230Z
UID:1918-1701882000-1701889200@www.mycdbl.com
SUMMARY:Colonie Chamber Holiday Mixer
DESCRIPTION:
URL:https://www.mycdbl.com/event/colonie-chamber-holiday-mixer/
LOCATION:Century House\, 997 Loudon Rd.\, Latham\, NY\, United States
END:VEVENT
BEGIN:VEVENT
DTSTART;TZID=UTC:20231114T080000
DTEND;TZID=UTC:20231114T100000
DTSTAMP:20260425T155014
CREATED:20231010T202845Z
LAST-MODIFIED:20231010T202845Z
UID:1899-1699948800-1699956000@www.mycdbl.com
SUMMARY:Elevate Albany: Five Local Leaders\, Five Ideas for a Brighter Future
DESCRIPTION:Five local leaders will share their ideas for growth and a brighter future for the Albany area.
URL:https://www.mycdbl.com/event/elevate-albany-five-local-leaders-five-ideas-for-a-brighter-future/
LOCATION:Proctors\, 432 State St.\, Schenectady\, NY\, 12305
END:VEVENT
BEGIN:VEVENT
DTSTART;TZID=UTC:20231101T170000
DTEND;TZID=UTC:20231101T190000
DTSTAMP:20260425T155014
CREATED:20231010T202109Z
LAST-MODIFIED:20231010T202109Z
UID:1894-1698858000-1698865200@www.mycdbl.com
SUMMARY:November Networking at Troy Beer Garden
DESCRIPTION:Colonie Chamber November Networking Event along with  the Rensselaer County Regional Chamber of Commerce! \nWednesday\, November 1\, 2023
URL:https://www.mycdbl.com/event/november-networking-at-troy-beer-garden/
LOCATION:Troy Beer Garden\, 2 King St\, Troy\, NY\, 12180
END:VEVENT
BEGIN:VEVENT
DTSTART;TZID=UTC:20231019T080000
DTEND;TZID=UTC:20231019T094500
DTSTAMP:20260425T155014
CREATED:20231010T202544Z
LAST-MODIFIED:20231010T202544Z
UID:1897-1697702400-1697708700@www.mycdbl.com
SUMMARY:Emerging Industries Power Breakfast
DESCRIPTION:As momentum builds across emerging industries – semiconductors\, offshore wind\, video games\, and more – hear about what opportunities are ahead.
URL:https://www.mycdbl.com/event/emerging-industries-power-breakfast/
LOCATION:Hilton Garden Inn\, 235 Hoosick St.\, Troy\, NY\, 12180
END:VEVENT
BEGIN:VEVENT
DTSTART;TZID=UTC:20231004T170000
DTEND;TZID=UTC:20231004T190000
DTSTAMP:20260425T155014
CREATED:20230717T192535Z
LAST-MODIFIED:20230717T192946Z
UID:1849-1696438800-1696446000@www.mycdbl.com
SUMMARY:Colonie Chamber Networking Event
DESCRIPTION:Join us for our October Networking Event!\nEnjoy complimentary hors d’oeuvres and drink specials while making new connections and growing your network.\n\nMembers\n$10 online | $15 at the door\n\nNon-Members\n$20 online | $25 at the door
URL:https://www.mycdbl.com/event/colonie-chamber-networking-event-2/
END:VEVENT
BEGIN:VEVENT
DTSTART;TZID=UTC:20230921T110000
DTEND;TZID=UTC:20230921T170000
DTSTAMP:20260425T155014
CREATED:20230815T192440Z
LAST-MODIFIED:20230815T192440Z
UID:1869-1695294000-1695315600@www.mycdbl.com
SUMMARY:Mini Golf Tournament
DESCRIPTION:Pick up your putters and hit the course — the mini golf course\, that is — at the Colonie Chamber’s Mini Golf Tournament! 
URL:https://www.mycdbl.com/event/mini-golf-tournament/
LOCATION:Pirates Hide Out\, 175 Guideboard Rd.\, Waterford\, NY\, 12188
END:VEVENT
BEGIN:VEVENT
DTSTART;TZID=UTC:20230913T170000
DTEND;TZID=UTC:20230913T190000
DTSTAMP:20260425T155014
CREATED:20230815T192159Z
LAST-MODIFIED:20230815T192159Z
UID:1867-1694624400-1694631600@www.mycdbl.com
SUMMARY:Colonie Chamber Mixer - Toro
DESCRIPTION:Enjoy complimentary hors d’oeuvres and drink specials while making new connections and growing your network.
URL:https://www.mycdbl.com/event/colonie-chamber-mixer-toro/
LOCATION:Toro\, 111 Wolf Rd.\, Colonie\, NY\, 12205
END:VEVENT
BEGIN:VEVENT
DTSTART;TZID=UTC:20230913T050000
DTEND;TZID=UTC:20230913T190000
DTSTAMP:20260425T155014
CREATED:20230717T192304Z
LAST-MODIFIED:20230717T192840Z
UID:1846-1694581200-1694631600@www.mycdbl.com
SUMMARY:Colonie Chamber Networking Event
DESCRIPTION:Enjoy complimentary hors d’oeuvres and drink specials while making new connections and growing your network.\n\nMembers\n$10 online | $15 at the door\n\nNon-Members\n$20 online | $25 at the door
URL:https://www.mycdbl.com/event/colonie-chamber-networking-event/
LOCATION:Toro\, 111 Wolf Rd.\, Colonie\, NY\, 12205
END:VEVENT
BEGIN:VEVENT
DTSTART;TZID=UTC:20230817T173000
DTEND;TZID=UTC:20230817T193000
DTSTAMP:20260425T155014
CREATED:20230717T191035Z
LAST-MODIFIED:20230717T193334Z
UID:1841-1692293400-1692300600@www.mycdbl.com
SUMMARY:Cocktails and Connections
DESCRIPTION:The ABR’s Summer Cocktails and Connections in Saratoga is the ultimate networking reception that includes top business leaders in the Capital Region.
URL:https://www.mycdbl.com/event/cocktails-and-connections/
LOCATION:Prime at Saratoga National\, 458 Union St.\, Saratoga Springs\, NY\, 12866
END:VEVENT
BEGIN:VEVENT
DTSTART;TZID=UTC:20230816T170000
DTEND;TZID=UTC:20230816T190000
DTSTAMP:20260425T155014
CREATED:20230524T134815Z
LAST-MODIFIED:20230524T134815Z
UID:1809-1692205200-1692212400@www.mycdbl.com
SUMMARY:Business After Hours at The Hideaway at Saratoga Lake Golf Club
DESCRIPTION:
URL:https://www.mycdbl.com/event/business-after-hours-at-the-hideaway-at-saratoga-lake-golf-club/
LOCATION:The Hideaway\, 35 Grace Moore Rd.\, Saratoga Springs\, NY\, 12866
END:VEVENT
BEGIN:VEVENT
DTSTART;TZID=UTC:20230809T120000
DTEND;TZID=UTC:20230809T140000
DTSTAMP:20260425T155014
CREATED:20230717T191928Z
LAST-MODIFIED:20230717T191928Z
UID:1844-1691582400-1691589600@www.mycdbl.com
SUMMARY:BBB Albany Luncheon
DESCRIPTION:Join in a momentous celebration as our esteemed friends at BBB of Upstate NY reach an incredible milestone – 100 years of providing unforgettable experiences and warm hospitality!
URL:https://www.mycdbl.com/event/bbb-albany-luncheon/
LOCATION:The Desmond Hotel\, 660 Albany Shaker Rd.\, Albany\, NY\, 12211
END:VEVENT
BEGIN:VEVENT
DTSTART;TZID=UTC:20230802T170000
DTEND;TZID=UTC:20230802T190000
DTSTAMP:20260425T155014
CREATED:20230524T135919Z
LAST-MODIFIED:20230524T135919Z
UID:1820-1690995600-1691002800@www.mycdbl.com
SUMMARY:Networking at Philly Bar & Grill
DESCRIPTION:Enjoy complimentary hors d’oeuvres and drink specials while making new connections and growing your network.
URL:https://www.mycdbl.com/event/networking-at-philly-bar-grill/
LOCATION:Philly Bar & Grill\, 622 Watervliet Shaker Rd.\, Latham\, NY\, 12110
END:VEVENT
BEGIN:VEVENT
DTSTART;TZID=UTC:20230721T130000
DTEND;TZID=UTC:20230721T170000
DTSTAMP:20260425T155014
CREATED:20230524T135654Z
LAST-MODIFIED:20230524T135654Z
UID:1817-1689944400-1689958800@www.mycdbl.com
SUMMARY:Day at the Track
DESCRIPTION:Network with members of the Colonie and Chamber of Commerce while enjoying a day at the races and the amenities of The Rail at the 1863 Club\, which include floor-to-ceiling windows in an air-conditioned dining room offering Mutuel terminals and televisions throughout.
URL:https://www.mycdbl.com/event/day-at-the-track/
LOCATION:Saratoga Race Course
END:VEVENT
BEGIN:VEVENT
DTSTART;TZID=UTC:20230712T180000
DTEND;TZID=UTC:20230712T193000
DTSTAMP:20260425T155014
CREATED:20230524T134020Z
LAST-MODIFIED:20230524T134020Z
UID:1801-1689184800-1689190200@www.mycdbl.com
SUMMARY:Power 50 Preview Party
DESCRIPTION:Who will be on the 2023 Power 50 list? Be one of the first to find out at the Power 50 Preview Party where we’ll release this year’s list before it’s published and celebrate with listmakers!
URL:https://www.mycdbl.com/event/power-50-preview-party/
LOCATION:Loft 433\, 433 River St.\, Troy\, NY\, 12180
END:VEVENT
BEGIN:VEVENT
DTSTART;TZID=UTC:20230712T170000
DTEND;TZID=UTC:20230712T190000
DTSTAMP:20260425T155014
CREATED:20230524T135439Z
LAST-MODIFIED:20230524T135439Z
UID:1814-1689181200-1689188400@www.mycdbl.com
SUMMARY:Networking at Scarlet Knife
DESCRIPTION:Enjoy complimentary hors d’oeuvres and drink specials while making new connections and growing your network.
URL:https://www.mycdbl.com/event/networking-at-scarlet-knife/
LOCATION:Scarlet Knife\, 195 Troy Schenectady Rd\, Watervliet\, NY\, 12189
END:VEVENT
BEGIN:VEVENT
DTSTART;TZID=UTC:20230623T110000
DTEND;TZID=UTC:20230623T133000
DTSTAMP:20260425T155014
CREATED:20230524T133719Z
LAST-MODIFIED:20230524T133719Z
UID:1799-1687518000-1687527000@www.mycdbl.com
SUMMARY:Diversity Equity & Inclusion in Business Awards
DESCRIPTION:2023 honorees announced! Join us to recognize this year’s honorees followed by a dynamic and candid fireside chat moderated by Walter Thorne.
URL:https://www.mycdbl.com/event/diversity-equity-inclusion-in-business-awards/
LOCATION:Hilton Garden Inn\, 235 Hoosick St.\, Troy\, NY\, 12180
END:VEVENT
BEGIN:VEVENT
DTSTART;TZID=UTC:20230615T173000
DTEND;TZID=UTC:20230615T210000
DTSTAMP:20260425T155014
CREATED:20230524T134451Z
LAST-MODIFIED:20230524T134451Z
UID:1807-1686850200-1686862800@www.mycdbl.com
SUMMARY:Capital Region Chamber Annual Dinner
DESCRIPTION:The Chamber’s Annual Dinner is the region’s premier business event\, attended by 1\,000 business executives and civic leaders from throughout the Capital Region. This promises to be an evening you will not want to miss\, featuring unmatched networking opportunities and an outstanding program.
URL:https://www.mycdbl.com/event/capital-region-chamber-annual-dinner/
END:VEVENT
BEGIN:VEVENT
DTSTART;TZID=UTC:20230615T080000
DTEND;TZID=UTC:20230615T103000
DTSTAMP:20260425T155014
CREATED:20230524T133503Z
LAST-MODIFIED:20230524T133503Z
UID:1796-1686816000-1686825000@www.mycdbl.com
SUMMARY:Education and Workforce Development Roundtable
DESCRIPTION:As a part of our yearlong series\, Elevate Albany\, Albany Business Review with the region’s most influential leaders in education and business.
URL:https://www.mycdbl.com/event/education-and-workforce-development-roundtable/
LOCATION:Empac\, 44 8th St\, Troy\, NY\, 12180
END:VEVENT
BEGIN:VEVENT
DTSTART;TZID=UTC:20230614T160000
DTEND;TZID=UTC:20230614T190000
DTSTAMP:20260425T155014
CREATED:20230524T135119Z
LAST-MODIFIED:20230524T135119Z
UID:1812-1686758400-1686769200@www.mycdbl.com
SUMMARY:Networking at Horseshoe Inn Bar & Grill
DESCRIPTION:Join the Colonie Chamber of Commerce for our June networking event as we head north to collaborate with our friends from the Saratoga County Chamber of Commerce.
URL:https://www.mycdbl.com/event/networking-at-horseshoe-inn-bar-grill/
LOCATION:Horseshoe Inn Bar & Grill
END:VEVENT
END:VCALENDAR